Workbook
Name _Toc304511180: 'Bitte lesen ... + + Anleitung'!$M$4
Name Eingabebereich: #REF!,#REF!,#REF!,#REF!,#REF!,#REF!,#REF!,#REF!,#REF!,#REF!,#REF!,#REF!,#REF!,#REF!,#REF!,#REF!,#REF!,#REF!,#REF!,#REF!,#REF!,#REF!
Name Titel: 'Bitte lesen ... + + Anleitung'!$M$47
Name www: #REF!,#REF!,#REF!,#REF!,#REF!,#REF!,#REF!,#REF!,#REF!,#REF!,#REF!,#REF!,#REF!,#REF!,#REF!,#REF!,#REF!,#REF!,#REF!,#REF!,#REF!,#REF!
Name xx: #REF!,#REF!,#REF!,#REF!,#REF!,#REF!,#REF!,#REF!,#REF!,#REF!,#REF!,#REF!,#REF!,#REF!,#REF!,#REF!,#REF!,#REF!,#REF!,#REF!,#REF!,#REF!
Name xy: #REF!,#REF!,#REF!,#REF!,#REF!,#REF!,#REF!,#REF!,#REF!,#REF!,#REF!,#REF!,#REF!,#REF!,#REF!,#REF!,#REF!,#REF!,#REF!,#REF!,#REF!,#REF!

Sheet Bitte lesen ...  + + Anleitung
B2: Nutzungsbedingungen und Hinweise zur Anwendung der Datei | M2: Erläuterungen zum Verständnis der EXCEL-Tabelle
B3: Erstellen einer kleinen Marktanalyse | M3: =B3 -> Erstellen einer kleinen Marktanalyse
B4: mit Hilfe der Daten aus dem Pflegelotsen oder dem | I4: Version 2026 | M4: =B4 -> mit Hilfe der Daten aus dem Pflegelotsen oder dem
B5: AOK-Pflegenavigator | M5: =B5 -> AOK-Pflegenavigator
B6: .. in Ergänzung zu weiteren Daten aus dem Internet | M6: =B6 -> .. in Ergänzung zu weiteren Daten aus dem Internet
B8: Diese Datei wurde mit Microsoft® EXCEL® erstellt. | M8: Beschreibung der Anwendung der EXCEL-Datei
B9: Es handelt sich somit nicht um ein Programm, sondern um eine programmierte Datei.
B10: Die Datei sollen Ihnen dazu dienen, zu erkunden, welche anderen Anbieter von | M10: Vorgehensweise und Anmerkungen:
B11: ambulanter Pflege und Betreuung es in Ihrem Umkreis gibt ("um" Ihre Postleitzahl) | M11: Mein Vorschlag ist, dass Sie eine/n Schüler/in oder eine/n Praktikant/in beauftragen, die Tabelle
B12: a) Wie groß ist der Pflegedienst? | M12: auszufüllen.
B13: b) wie hoch sind die Preise der Mitbewerber für eine vergleichbare Leistung? | M13: 1.) Tragen Sie als erstes in der ersten Zeile an der ersten Stelle die Daten Ihres Pflegedienstes ein.
B14: c) was haben die Mitbewerber für Leistungsangebote? | M14: 2.) Im Transparenzbericht ist die Anzahl der Pflegebedürftigen angegeben. Pflegebedürftige sind die Menschen,
B15: c) was sind deren Stärken und Schwächen? | M15: die im SGB XI versorgt werden.
B16: usw. | M16: Das entspricht aber nicht der Anzahl der Patienten. Das wäre die Zahl, die SIE eigentlich interessiert.
B17: Ziel ist es, einen Eindruck zu bekommen von der Marktsituation im Umfeld, um gegebenenfalls | M17: Die Zahl der Patienten lässt sich aber relativ leicht errechnen / schätzen.
B18: bei entsprechenden Offerten vorbereitet zu sein, oder auch ganz gezielt, um von den | M18: Orientieren Sie sich bitte an diesem Beispiel; fragen Sie Ihre Statistiken ab:
B19: Mitbewerbern evtl. neue Mitarbeiter zu gewinnen - oder im Extremfall, um diese im Sinne | M19: Wie viele Menschen werden | P19: im SGB XI | Q19: … | R19: im SGB V | S19: … | T19: insgesamt | U19: versorgt?
B20: des eigenen Wachstums sogar zu übernehmen oder diese Mitarbeiter integrieren zu können. | P20: 70 | Q20: + | R20: 60 | S20: = | T20: 100
B21: Wer den Mitarbeitern die besseren Konditionen bieten kann, gewinnt auf Dauer. | M21: Die vermeintliche Falschrechnung beruht darauf, dass einige Menschen in beiden Bereichen versorgt werden.
M22: In unserem Beispiel ergeben sich folgende Kennzahlen:
B23: Die Datei ist als kostenloser Service von Sießegger Sozialmanagement gedacht. | P23: =P20/P20 -> 1 | Q23: + | R23: =R20/P20 -> 0.85714286 | S23: = | T23: =T20/P20 -> 1.4285714
B24: Sie steht kostenlos und exklusiv für folgende Personen und Einrichtungen zur Verfügung: | M24: Es kommen also (in unserem Beispiel) noch 42,9% an Kunden zu den Pflegebedürftigen hinzu.
B25: - den "Fans" auf meiner Facebook-Seite Sießegger Sozialmanagement, | M25: Von welchen zusätzlichen Prozentzahlen möchten Sie ausgehen? Ich empfehle eine Zahl zwischen
B26: als Geschenk zu Weihnachten/Neujahr 2015//2016 | M26: + 30% und + 40%. | P26: Tragen Sie bitte hier Ihre Zahl ein: | T26: 0.2
B27: - meinen Beratungskunden. | P27: Tragen Sie bitte nur Zahlen ein, kein + oder - oder irgendwelche Buchstaben. Danke.
B28: Eine weitergehende Beratung ist mit dem "Erwerb" dieser Datei nicht enthalten. | M28: Holen Sie alle Zahlen aus dem Transparenzbericht heraus, die Sie bekommen können.
B29: Es gibt keine "Hotline". | M29: 3.) Die restlichen Daten holen Sie sich mit Hilfe von Google, oder Sie tragen mutig Ihre Vermutungen ein.
B30: Die Dateien sind nur für Ihre privaten oder betrieblichen Zwecke Ihres ambulanten Dienstes! | M30: Alles andere ergibt sich, und Sie sollten durchaus auch Text eingeben.
B31: Es kann keine Gewähr für den Inhalt oder dessen Umsetzung gegeben werden. | M31: 4.) Sollten Sie die Datei ändern wollen, das Passwort ist xxx.
B32: Die Rechte verbleiben zu 100% bei Thomas Sießegger.
B34: Das Kennwort zum Aufheben des Schutzes wird nur auf persönliche Nachfrage per Email evtl. genannt. | M34: Probieren Sie einfach ein bißchen herum, und Sie werden schon sehen, wie die Datei funktioniert.
B35: Bitte gehen Sie respektvoll mit diesem Geschenk um. Danke.
B37: Hallo Kopierer und andere Unternehmensberater! | M37: Bitte tragen Sie immer nur die gelb hinterlegten Felder ein.
B38: Ein kommerzieller Gebrauch über die eigene Nutzung hinaus (z.B. zur Beratung anderer | M38: Die Datei ist ausgestattet mit Beispielzahlen, um Ihnen zu zeigen, wie sie funktioniert.
B39: Einrichtungen oder zum Weiterverkauf im eigenen Namen) ist ausgeschlossen und | M39: Diese Zahlen entsprechen nicht der Realität.
B40: ausdrücklich untersagt. Diese Untersagung gilt auch für die nicht genehmigte Nutzung | M40: Überschreiben Sie diese gelb hinterlegten Felder bitte mit Ihren eigenen Zahlen.
B41: in Seminaren, ohne den Autor um Verwendung anzufragen.
B42: Weiterhin bedarf es meiner ausdrücklichen Zustimmung (liebe EDV-Firmen!),
B43: wenn Sie diese Idee in Ihre Software einbinden.
B45: Sie (als Mitarbeiter eines ambulanten Pflegedienstes oder Verbandes, wenn Sie zu oben genanntem
B46: Personenkreis gehören) können diese EXCEL-Datei jedoch zeitlich unbegrenzt kostenlos nutzen, | M46: =B53 -> © 2015 - 2026 Thomas Sießegger
B47: z.B. auch in verbandsinternen Handbüchern. | M47: =B54 -> Ottenser Hauptstraße 14, 22765 Hamburg,
B48: Sollten Sie diese Datei (oder Variationen davon) in Veröffentlichungen nutzen, | M48: =B55 -> Tel.: 040/39905902, Fax: 040/39905916,
B49: sind Sie verpflichtet, einen Literaturverweis auf Thomas Sießegger zu erstellen. | M49: =B56 -> eMail: marktanalyse@siessegger.de
B50: Durch die Anwendung dieser Datei erklären Sie sich
B51: mit oben/eben genannten Bedingungen einverstanden.
B53: © 2015 - 2026 Thomas Sießegger
B54: Ottenser Hauptstraße 14, 22765 Hamburg,
B55: Tel.: 040/39905902, Fax: 040/39905916,
B56: eMail: marktanalyse@siessegger.de

Sheet Marktanalyse
A1: =CONCATENATE("Auswertung ambulanter Pflegedienste | im Umkreis von ",F5," Kilometern um die Postleitzahl ",F4) -> Auswertung ambulanter Pflegedienste | im Umkreis von 5 Kilometern um die Postleitzahl 12345
I2: Die Tabelle ist (ohne Passwort, aber) geschützt
E4: PLZ: | F4: 12345
E5: Umkreis: | F5: 5 | I5: Quelle: | J5: www.pflegelotse.de
C6: Stand: | D6: =TODAY() -> 46290
E7: Daten aus dem Transparenzbericht oder aus dem Internet, per Google oder anderweitig ermittelt.
E8: eigentlich nur die Pflege-bedürftigen im SGB XI | F8: = Hochrechnung auf die Anzahl der Kunden | G8: hier errechnet sich der Marktanteil | H8: Diese Informationen sind eigentlich unwichtig | I8: Preis- Vergleich bei Referenz-Leistung
B9: Nr. | C9: Ent-fernung | D9: Name des Pflegedienstes | E9: Anzahl versorgter Menschen | F9: = Anzahl der Kunden | G9: Markt-anteil | H9: Pflege-Note gesamt | I9: Ganz-waschung | J9: Preis-abwei-chung | K9: Bericht vom .. Datum | L9: Ort / Stadt | M9: Adresse | N9: Ansprech-Partner | O9: Telefon | P9: Email | Q9: Internet-Seite | R9: Name der PDL | S9: geschätztes Alter der PDL | T9: Bewertung der Internet-Seite | U9: Ärzte, Krankenhaus, | V9: Gerüchte | W9: Leistungsangebot | X9: Kontakte, die wir haben | Y9: Sonstiges
B10: 1 | D10: Ihr eigener Pflegedienst | F10: =E10*(1+'Bitte lesen ... + + Anleitung'!$T$26) -> 0 | G10: =IF((E10/$E$31)>0,E10/$E$31,"") -> #DIV/0! | J10: =IF(ISNUMBER((I10-$I$12)/$I$12),(I10-$I$12)/$I$12,"- - -") -> - - -
B11: 2 | F11: =E11*(1+'Bitte lesen ... + + Anleitung'!$T$26) -> 0 | G11: =IF((E11/$E$31)>0,E11/$E$31,"") -> #DIV/0! | J11: =IF(ISNUMBER((I11-$I$12)/$I$12),(I11-$I$12)/$I$12,"- - -") -> - - -
B12: 3 | F12: =E12*(1+'Bitte lesen ... + + Anleitung'!$T$26) -> 0 | G12: =IF((E12/$E$31)>0,E12/$E$31,"") -> #DIV/0! | J12: =IF(ISNUMBER((I12-$I$12)/$I$12),(I12-$I$12)/$I$12,"- - -") -> - - -
B13: 4 | F13: =E13*(1+'Bitte lesen ... + + Anleitung'!$T$26) -> 0 | G13: =IF((E13/$E$31)>0,E13/$E$31,"") -> #DIV/0! | J13: =IF(ISNUMBER((I13-$I$12)/$I$12),(I13-$I$12)/$I$12,"- - -") -> - - -
B14: 5 | F14: =E14*(1+'Bitte lesen ... + + Anleitung'!$T$26) -> 0 | G14: =IF((E14/$E$31)>0,E14/$E$31,"") -> #DIV/0! | J14: =IF(ISNUMBER((I14-$I$12)/$I$12),(I14-$I$12)/$I$12,"- - -") -> - - -
B15: 6 | F15: =E15*(1+'Bitte lesen ... + + Anleitung'!$T$26) -> 0 | G15: =IF((E15/$E$31)>0,E15/$E$31,"") -> #DIV/0! | J15: =IF(ISNUMBER((I15-$I$12)/$I$12),(I15-$I$12)/$I$12,"- - -") -> - - -
B16: 7 | F16: =E16*(1+'Bitte lesen ... + + Anleitung'!$T$26) -> 0 | G16: =IF((E16/$E$31)>0,E16/$E$31,"") -> #DIV/0! | J16: =IF(ISNUMBER((I16-$I$12)/$I$12),(I16-$I$12)/$I$12,"- - -") -> - - -
B17: 8 | F17: =E17*(1+'Bitte lesen ... + + Anleitung'!$T$26) -> 0 | G17: =IF((E17/$E$31)>0,E17/$E$31,"") -> #DIV/0! | J17: =IF(ISNUMBER((I17-$I$12)/$I$12),(I17-$I$12)/$I$12,"- - -") -> - - -
B18: 9 | F18: =E18*(1+'Bitte lesen ... + + Anleitung'!$T$26) -> 0 | G18: =IF((E18/$E$31)>0,E18/$E$31,"") -> #DIV/0! | J18: =IF(ISNUMBER((I18-$I$12)/$I$12),(I18-$I$12)/$I$12,"- - -") -> - - -
B19: 10 | F19: =E19*(1+'Bitte lesen ... + + Anleitung'!$T$26) -> 0 | G19: =IF((E19/$E$31)>0,E19/$E$31,"") -> #DIV/0! | J19: =IF(ISNUMBER((I19-$I$12)/$I$12),(I19-$I$12)/$I$12,"- - -") -> - - -
B20: 11 | F20: =E20*(1+'Bitte lesen ... + + Anleitung'!$T$26) -> 0 | G20: =IF((E20/$E$31)>0,E20/$E$31,"") -> #DIV/0! | J20: =IF(ISNUMBER((I20-$I$12)/$I$12),(I20-$I$12)/$I$12,"- - -") -> - - -
B21: 12 | F21: =E21*(1+'Bitte lesen ... + + Anleitung'!$T$26) -> 0 | G21: =IF((E21/$E$31)>0,E21/$E$31,"") -> #DIV/0! | J21: =IF(ISNUMBER((I21-$I$12)/$I$12),(I21-$I$12)/$I$12,"- - -") -> - - -
B22: 13 | F22: =E22*(1+'Bitte lesen ... + + Anleitung'!$T$26) -> 0 | G22: =IF((E22/$E$31)>0,E22/$E$31,"") -> #DIV/0! | J22: =IF(ISNUMBER((I22-$I$12)/$I$12),(I22-$I$12)/$I$12,"- - -") -> - - -
... B29: 20 | F29: =E29*(1+'Bitte lesen ... + + Anleitung'!$T$26) -> 0 | G29: =IF((E29/$E$31)>0,E29/$E$31,"") -> #DIV/0! | J29: =IF(ISNUMBER((I29-$I$12)/$I$12),(I29-$I$12)/$I$12,"- - -") -> - - -
B31: Auswertung xx Pflegedienste mit xx km Entfernung | E31: =SUM(E10:E29) -> 0 | F31: =SUM(F10:F29) -> 0 | G31: =SUM(G10:G29) -> #DIV/0! | H31: =AVERAGE(H10:H29) -> #DIV/0! | I31: =AVERAGE(I10:I29) -> #DIV/0! | J31: =MEDIAN(I10:I29) -> #NUM!
E32: = Summe | F32: = Summe | H32: = Mittelwert | I32: = Mittelwert | J32: = Median
